BEGIN:VCALENDAR
VERSION:2.0
PRODID:-//Village of Clinton - ECPv6.15.20//NONSGML v1.0//EN
CALSCALE:GREGORIAN
METHOD:PUBLISH
X-WR-CALNAME:Village of Clinton
X-ORIGINAL-URL:https://village.clinton.bc.ca
X-WR-CALDESC:Events for Village of Clinton
REFRESH-INTERVAL;VALUE=DURATION:PT1H
X-Robots-Tag:noindex
X-PUBLISHED-TTL:PT1H
BEGIN:VTIMEZONE
TZID:UTC
BEGIN:STANDARD
TZOFFSETFROM:+0000
TZOFFSETTO:+0000
TZNAME:UTC
DTSTART:20250101T000000
END:STANDARD
END:VTIMEZONE
BEGIN:VEVENT
DTSTART;TZID=UTC:20260606T110000
DTEND;TZID=UTC:20260606T180000
DTSTAMP:20260421T110351
CREATED:20251127T230344Z
LAST-MODIFIED:20260203T180504Z
UID:5055-1780743600-1780768800@village.clinton.bc.ca
SUMMARY:Old Road Summer Festival – Live Music & Arts Celebration in Clinton\, BC
DESCRIPTION:Follow the Old Road into summer.Clinton’s signature warm-season celebration returns June 6 with a full day of live music\, arts\, food\, and community spirit at the Old Road Summer Festival. \nRooted in the heritage of the Old Cariboo Road\, this festival brings the region together with performances from the Pines Musicians\, whose twice-yearly gatherings began in 2020 and have grown into a beloved Clinton tradition. Their blend of country\, western\, bluegrass\, cowboy tunes\, and classic Cariboo storytelling sets the tone for the festival’s frontier-inspired atmosphere. \nClinton’s homegrown talent Banjo Bruce Ambler joins the lineup—bringing his Scruggs-style three-finger picking\, rich harmonies\, and a lifetime of Clinton musicianship to the stage. \nThe Old Road Summer Festival features: \n\n\nMultiple live bands throughout the day \n\n\nArtisan vendors and makers \n\n\nFood trucks and local snacks \n\n\nA family-friendly community atmosphere \n\n\nActivities for kids \n\n\nA vibrant celebration of Cariboo culture \n\n\nBring a lawn chair\, explore artisan booths\, grab something delicious from local vendors\, and enjoy the music under open summer skies. Whether you’re a local\, a traveller\, or just passing through\, you’re invited to experience Clinton’s growing arts and culture scene at its best. \nDate: June 6Location: Reg Conn Centennial Park\, Clinton\, BCAdmission: Free \nFollow the Old Road to new music—your summer adventure starts here.
URL:https://village.clinton.bc.ca/events/old-road-summer-festival-live-music-arts-celebration-in-clinton-bc/
LOCATION:Reg Conn Centennial Park\, 211 Smith Ave.\, Clinton\, BC\, V0K 1K0\, Canada
CATEGORIES:Music Events
ATTACH;FMTTYPE=image/png:https://village.clinton.bc.ca/wp-content/uploads/2025/11/2.png
ORGANIZER;CN="Village of Clinton":MAILTO:cdc@village.clinton.bc.ca
END:VEVENT
END:VCALENDAR