BEGIN:VCALENDAR
VERSION:2.0
PRODID:-//Village of Clinton - ECPv6.15.20//NONSGML v1.0//EN
CALSCALE:GREGORIAN
METHOD:PUBLISH
X-ORIGINAL-URL:https://village.clinton.bc.ca
X-WR-CALDESC:Events for Village of Clinton
REFRESH-INTERVAL;VALUE=DURATION:PT1H
X-Robots-Tag:noindex
X-PUBLISHED-TTL:PT1H
BEGIN:VTIMEZONE
TZID:UTC
BEGIN:STANDARD
TZOFFSETFROM:+0000
TZOFFSETTO:+0000
TZNAME:UTC
DTSTART:20250101T000000
END:STANDARD
END:VTIMEZONE
BEGIN:VEVENT
DTSTART;TZID=UTC:20260912T080000
DTEND;TZID=UTC:20260912T170000
DTSTAMP:20260420T033002
CREATED:20251127T231232Z
LAST-MODIFIED:20260203T183450Z
UID:5060-1789200000-1789232400@village.clinton.bc.ca
SUMMARY:Old Road Harvest Festival – Clinton’s Fall Music & Arts Celebration
DESCRIPTION:Celebrate the season in true Cariboo fashion at the Old Road Harvest Festival in Clinton\, BC. Set along the historic Old Cariboo Road\, this full-day outdoor festival brings together musicians\, artisans\, families\, travelers\, and culture-seekers for a warm and welcoming fall gathering. \nEnjoy live music from the Pines Musicians—a talented collective whose roots in cowboy\, classic country\, bluegrass\, and western traditions run deep —along with a special performance from Clinton’s own Banjo Bruce\, whose Scruggs-style three-finger banjo picking has become a local favourite . \nThe festival features multiple bands throughout the day\, an artisan market\, food vendors\, kids’ activities\, and the signature frontier-meets-creative atmosphere that defines Clinton’s growing arts and culture scene. As the leaves turn and the air cools\, the Harvest Festival creates the perfect backdrop for community connection\, storytelling\, and unforgettable music. \nBring a chair\, bring a friend\, bring the whole family—and follow the Old Road into fall.
URL:https://village.clinton.bc.ca/events/old-road-harvest-festival-clintons-fall-music-arts-celebration/
LOCATION:Reg Conn Centennial Park\, 211 Smith Ave.\, Clinton\, BC\, V0K 1K0\, Canada
CATEGORIES:Music Events
ATTACH;FMTTYPE=image/png:https://village.clinton.bc.ca/wp-content/uploads/2025/11/Old-Road-Music-Arts-Festival.png
ORGANIZER;CN="Village of Clinton":MAILTO:cdc@village.clinton.bc.ca
END:VEVENT
END:VCALENDAR