BEGIN:VCALENDAR
VERSION:2.0
PRODID:-//Village of Clinton - ECPv6.15.20//NONSGML v1.0//EN
CALSCALE:GREGORIAN
METHOD:PUBLISH
X-ORIGINAL-URL:https://village.clinton.bc.ca
X-WR-CALDESC:Events for Village of Clinton
REFRESH-INTERVAL;VALUE=DURATION:PT1H
X-Robots-Tag:noindex
X-PUBLISHED-TTL:PT1H
BEGIN:VTIMEZONE
TZID:UTC
BEGIN:STANDARD
TZOFFSETFROM:+0000
TZOFFSETTO:+0000
TZNAME:UTC
DTSTART:20240101T000000
END:STANDARD
END:VTIMEZONE
BEGIN:VEVENT
DTSTART;TZID=UTC:20251205T080000
DTEND;TZID=UTC:20251205T170000
DTSTAMP:20260419T202203
CREATED:20251124T184315Z
LAST-MODIFIED:20251127T225451Z
UID:5046-1764921600-1764954000@village.clinton.bc.ca
SUMMARY:Memorial Hall Christmas Evening — Friday\, 5:30 pm to 7:30 pm
DESCRIPTION:As Main Street fills with music and late-night shopping\, Memorial Hall will be glowing with its own kind of Christmas warmth. From 5:30 pm to 7:30 pm\, families can step inside for an evening built around connection\, celebration\, and a little holiday magic. Santa will be waiting for photos—free with a non-perishable donation to the Clinton Food Bank—and each picture enters you into a draw for a cheerful mini Polaroid gift basket. \nKids can settle in at the coloring table or pick up a page to take home and return to the Village Office before December 10. The top entries will be announced on Friday\, December 12\, adding a fun local tradition to the season. Between the bustle of the shops and the glow of the Village Office light-up\, Memorial Hall gives families a place to slow down\, warm up\, and enjoy a simple holiday moment together.
URL:https://village.clinton.bc.ca/events/memorial-hall-christmas-evening-friday-530-pm-to-730-pm/
LOCATION:Clinton Memorial Hall\, 306 Le Bourdais Ave.\, Clinton\, BC\, V0K1K0\, Canada
CATEGORIES:Community Events
ATTACH;FMTTYPE=image/jpeg:https://village.clinton.bc.ca/wp-content/uploads/2025/11/Ed-Santa.jpg
ORGANIZER;CN="Village of Clinton":MAILTO:cdc@village.clinton.bc.ca
END:VEVENT
BEGIN:VEVENT
DTSTART;TZID=UTC:20251205T170000
DTEND;TZID=UTC:20251205T200000
DTSTAMP:20260419T202203
CREATED:20251124T175247Z
LAST-MODIFIED:20251124T175414Z
UID:5032-1764954000-1764964800@village.clinton.bc.ca
SUMMARY:Believe in the Magic of Christmas — Clinton’s Late-Night Shopping Event
DESCRIPTION:Join us on Main Street for an evening that feels straight out of a Christmas movie. We’ll kick things off with the Village Office Light-Up at 5pm\, followed by old-time carolers\, late-night shopping\, and plenty of local treats. \nWhat’s Happening Around Town• Special promotions and festive storefronts at participating Main Street shops and home-based businesses• Free hot chocolate from Hunnie’s (one per person)• Spend $75 locally and enter to win one of three $250 holiday gift baskets — plus pick up a free Christmas ornament at the Village Office when you return your shopping card• Memorial Hall: free photos with Santa with a non-perishable food bank donation\, colouring contest\, and a chance to win a mini Polaroid gift basket• Arena: free skating all weekend; Saturday features free hot dogs\, hot chocolate\, juice boxes\, and chips; free candy bags on Sunday• Sunday Finale: Bethel Pentecostal’s annual Christmas Dinner at the Memorial Hall\, 5pm \nThis weekend is all about celebrating our local businesses and sharing a bit of small-town holiday magic. Special thanks to Northern Development Initiative Trust for supporting the event through the Shop Local Initiative Grant.
URL:https://village.clinton.bc.ca/events/believe-in-the-magic-of-christmas-clintons-late-night-shopping-event/
LOCATION:Village Office\, 1423 Cariboo Hwy\, Clinton\, BC\, V0K 1K0\, Canada
CATEGORIES:Community Events
ATTACH;FMTTYPE=image/jpeg:https://village.clinton.bc.ca/wp-content/uploads/2025/11/Ed-Santa.jpg
ORGANIZER;CN="Village of Clinton":MAILTO:cdc@village.clinton.bc.ca
END:VEVENT
END:VCALENDAR